BEGIN:VCALENDAR
VERSION:2.0
PRODID:-//TES - ECPv6.9.1//NONSGML v1.0//EN
CALSCALE:GREGORIAN
METHOD:PUBLISH
X-ORIGINAL-URL:https://www.tesservice.com
X-WR-CALDESC:Events for TES
REFRESH-INTERVAL;VALUE=DURATION:PT1H
X-Robots-Tag:noindex
X-PUBLISHED-TTL:PT1H
BEGIN:VTIMEZONE
TZID:America/Chicago
BEGIN:DAYLIGHT
TZOFFSETFROM:-0600
TZOFFSETTO:-0500
TZNAME:CDT
DTSTART:20260308T080000
END:DAYLIGHT
BEGIN:STANDARD
TZOFFSETFROM:-0500
TZOFFSETTO:-0600
TZNAME:CST
DTSTART:20261101T070000
END:STANDARD
END:VTIMEZONE
BEGIN:VEVENT
DTSTART;VALUE=DATE:20260428
DTEND;VALUE=DATE:20260430
DTSTAMP:20260421T041843
CREATED:20260420T153639Z
LAST-MODIFIED:20260420T170638Z
UID:1831-1777334400-1777507199@www.tesservice.com
SUMMARY:Falcon M&O 2026 - Dallas
DESCRIPTION:Excellence in Customer Service is built on relationships. And our Falcon M&O Seminars are the perfect opportunity to establish and strengthen them with Falcon operators from around the world. \nIn 2026\, we again expect strong attendance at our shows in the Americas. Our guests enjoy the unique opportunity to interact with their fellow operators\, Dassault representatives\, and leading partners and suppliers that support them and their Falcon aircraft.
URL:https://www.tesservice.com/event/falcon-mo-2026-dallas/
ATTACH;FMTTYPE=image/png:https://www.tesservice.com/wp-content/uploads/2026/04/Falcon-MO-Seminars-2026.png
END:VEVENT
END:VCALENDAR