BEGIN:VCALENDAR
VERSION:2.0
PRODID:-//TES - ECPv6.9.1//NONSGML v1.0//EN
CALSCALE:GREGORIAN
METHOD:PUBLISH
X-WR-CALNAME:TES
X-ORIGINAL-URL:https://www.tesservice.com
X-WR-CALDESC:Events for TES
REFRESH-INTERVAL;VALUE=DURATION:PT1H
X-Robots-Tag:noindex
X-PUBLISHED-TTL:PT1H
BEGIN:VTIMEZONE
TZID:America/Chicago
BEGIN:DAYLIGHT
TZOFFSETFROM:-0600
TZOFFSETTO:-0500
TZNAME:CDT
DTSTART:20260308T080000
END:DAYLIGHT
BEGIN:STANDARD
TZOFFSETFROM:-0500
TZOFFSETTO:-0600
TZNAME:CST
DTSTART:20261101T070000
END:STANDARD
END:VTIMEZONE
BEGIN:VEVENT
DTSTART;VALUE=DATE:20260505
DTEND;VALUE=DATE:20260508
DTSTAMP:20260419T102109
CREATED:20260224T221604Z
LAST-MODIFIED:20260224T221604Z
UID:1797-1777939200-1778198399@www.tesservice.com
SUMMARY:NBAA Maintenance Conference
DESCRIPTION:Let the good times roll in the vibrant city of New Orleans\, as the 2026 NBAA Maintenance Conference – the industry’s premier event for business aviation maintenance professionals – heads to the Big Easy! With expert-led education sessions\, insights into industry best practices\, and an immersive exhibit hall featuring cutting-edge tools and technology\, this event will help you stay ahead in the dynamic world of aviation maintenance. We will be exhibiting at Booth #337!
URL:https://www.tesservice.com/event/nbaa-maintenance-conference/
LOCATION:New Orleans Ernest N. Morial Convention Center\, 900 Convention Center Blvd\, New Orleans\, LA\, 70130\, United States
ATTACH;FMTTYPE=image/jpeg:https://www.tesservice.com/wp-content/uploads/2026/02/NBAA-MMC-New-Orleans-2026.jpg
END:VEVENT
END:VCALENDAR